BEGIN:VCALENDAR
VERSION:2.0
PRODID:-//NADI Kamunting - ECPv6.15.12.2//NONSGML v1.0//EN
CALSCALE:GREGORIAN
METHOD:PUBLISH
X-WR-CALNAME:NADI Kamunting
X-ORIGINAL-URL:https://kamunting.nadi.my
X-WR-CALDESC:Events for NADI Kamunting
REFRESH-INTERVAL;VALUE=DURATION:PT1H
X-Robots-Tag:noindex
X-PUBLISHED-TTL:PT1H
BEGIN:VTIMEZONE
TZID:Asia/Kuala_Lumpur
BEGIN:STANDARD
TZOFFSETFROM:+0800
TZOFFSETTO:+0800
TZNAME:+08
DTSTART:20240101T000000
END:STANDARD
END:VTIMEZONE
BEGIN:VEVENT
DTSTART;TZID=Asia/Kuala_Lumpur:20250410T093000
DTEND;TZID=Asia/Kuala_Lumpur:20250410T110000
DTSTAMP:20260422T114327
CREATED:20250409T082523Z
LAST-MODIFIED:20250409T082523Z
UID:4329-1744277400-1744282800@kamunting.nadi.my
SUMMARY:WELLBEING PODCAST
DESCRIPTION:
URL:https://kamunting.nadi.my/event/wellbeing-podcast-2/
LOCATION:NaDI Kamunting\, NaDI Kamunting
END:VEVENT
BEGIN:VEVENT
DTSTART;TZID=Asia/Kuala_Lumpur:20250411T103000
DTEND;TZID=Asia/Kuala_Lumpur:20250411T120000
DTSTAMP:20260422T114327
CREATED:20250409T082751Z
LAST-MODIFIED:20250409T082751Z
UID:4332-1744367400-1744372800@kamunting.nadi.my
SUMMARY:WELLBEING WEBINAR
DESCRIPTION:
URL:https://kamunting.nadi.my/event/wellbeing-webinar/
LOCATION:NaDI Kamunting\, NaDI Kamunting
END:VEVENT
BEGIN:VEVENT
DTSTART;TZID=Asia/Kuala_Lumpur:20250412T080000
DTEND;TZID=Asia/Kuala_Lumpur:20250412T100000
DTSTAMP:20260422T114327
CREATED:20250409T082923Z
LAST-MODIFIED:20250409T082923Z
UID:4334-1744444800-1744452000@kamunting.nadi.my
SUMMARY:E-SPORT AWARENESS
DESCRIPTION:
URL:https://kamunting.nadi.my/event/e-sport-awareness/
LOCATION:NaDI Kamunting\, NaDI Kamunting
END:VEVENT
BEGIN:VEVENT
DTSTART;TZID=Asia/Kuala_Lumpur:20250413T093000
DTEND;TZID=Asia/Kuala_Lumpur:20250413T110000
DTSTAMP:20260422T114327
CREATED:20250409T083037Z
LAST-MODIFIED:20250409T083104Z
UID:4336-1744536600-1744542000@kamunting.nadi.my
SUMMARY:WELLBEING EXERCISE
DESCRIPTION:
URL:https://kamunting.nadi.my/event/wellbeing-exercise/
LOCATION:NaDI Kamunting\, NaDI Kamunting
END:VEVENT
BEGIN:VEVENT
DTSTART;TZID=Asia/Kuala_Lumpur:20250415T103000
DTEND;TZID=Asia/Kuala_Lumpur:20250415T120000
DTSTAMP:20260422T114327
CREATED:20250409T083235Z
LAST-MODIFIED:20250409T083235Z
UID:4338-1744713000-1744718400@kamunting.nadi.my
SUMMARY:WELLBEING WEBINAR
DESCRIPTION:
URL:https://kamunting.nadi.my/event/wellbeing-webinar-2/
LOCATION:NaDI Kamunting\, NaDI Kamunting
END:VEVENT
BEGIN:VEVENT
DTSTART;TZID=Asia/Kuala_Lumpur:20250416T103000
DTEND;TZID=Asia/Kuala_Lumpur:20250416T120000
DTSTAMP:20260422T114327
CREATED:20250409T083353Z
LAST-MODIFIED:20250409T083353Z
UID:4340-1744799400-1744804800@kamunting.nadi.my
SUMMARY:WELLBEING SHORT TIPS
DESCRIPTION:
URL:https://kamunting.nadi.my/event/wellbeing-short-tips/
LOCATION:NaDI Kamunting\, NaDI Kamunting
END:VEVENT
BEGIN:VEVENT
DTSTART;TZID=Asia/Kuala_Lumpur:20250422T093000
DTEND;TZID=Asia/Kuala_Lumpur:20250422T130000
DTSTAMP:20260422T114327
CREATED:20250409T083513Z
LAST-MODIFIED:20250409T083513Z
UID:4342-1745314200-1745326800@kamunting.nadi.my
SUMMARY:PODCAST "HER"
DESCRIPTION:
URL:https://kamunting.nadi.my/event/podcast-her/
LOCATION:NaDI Kamunting\, NaDI Kamunting
END:VEVENT
BEGIN:VEVENT
DTSTART;TZID=Asia/Kuala_Lumpur:20250424T093000
DTEND;TZID=Asia/Kuala_Lumpur:20250424T110000
DTSTAMP:20260422T114327
CREATED:20250409T083611Z
LAST-MODIFIED:20250409T083655Z
UID:4344-1745487000-1745492400@kamunting.nadi.my
SUMMARY:WELLBEING PODCAST
DESCRIPTION:
URL:https://kamunting.nadi.my/event/wellbeing-podcast-3/
LOCATION:NaDI Kamunting\, NaDI Kamunting
END:VEVENT
BEGIN:VEVENT
DTSTART;TZID=Asia/Kuala_Lumpur:20250425T153000
DTEND;TZID=Asia/Kuala_Lumpur:20250425T173000
DTSTAMP:20260422T114327
CREATED:20250409T084104Z
LAST-MODIFIED:20250409T084104Z
UID:4350-1745595000-1745602200@kamunting.nadi.my
SUMMARY:WEBINAR KESELAMATAN SIBER UNTUK WANITA
DESCRIPTION:
URL:https://kamunting.nadi.my/event/webinar-keselamatan-siber-untuk-wanita/
LOCATION:NaDI Kamunting\, NaDI Kamunting
END:VEVENT
BEGIN:VEVENT
DTSTART;TZID=Asia/Kuala_Lumpur:20250429T100000
DTEND;TZID=Asia/Kuala_Lumpur:20250429T120000
DTSTAMP:20260422T114327
CREATED:20250409T083750Z
LAST-MODIFIED:20250409T083750Z
UID:4346-1745920800-1745928000@kamunting.nadi.my
SUMMARY:PODCAST NADIPreneur
DESCRIPTION:
URL:https://kamunting.nadi.my/event/podcast-nadipreneur/
LOCATION:NaDI Kamunting\, NaDI Kamunting
END:VEVENT
BEGIN:VEVENT
DTSTART;TZID=Asia/Kuala_Lumpur:20250430T103000
DTEND;TZID=Asia/Kuala_Lumpur:20250430T113000
DTSTAMP:20260422T114327
CREATED:20250409T083852Z
LAST-MODIFIED:20250409T083852Z
UID:4348-1746009000-1746012600@kamunting.nadi.my
SUMMARY:WELLBEING SHORT TIPS
DESCRIPTION:
URL:https://kamunting.nadi.my/event/wellbeing-short-tips-2/
LOCATION:NaDI Kamunting\, NaDI Kamunting
END:VEVENT
END:VCALENDAR