BEGIN:VCALENDAR
VERSION:2.0
PRODID:-//NADI Kamunting - ECPv6.15.12.2//NONSGML v1.0//EN
CALSCALE:GREGORIAN
METHOD:PUBLISH
X-WR-CALNAME:NADI Kamunting
X-ORIGINAL-URL:https://kamunting.nadi.my
X-WR-CALDESC:Events for NADI Kamunting
REFRESH-INTERVAL;VALUE=DURATION:PT1H
X-Robots-Tag:noindex
X-PUBLISHED-TTL:PT1H
BEGIN:VTIMEZONE
TZID:UTC
BEGIN:STANDARD
TZOFFSETFROM:+0000
TZOFFSETTO:+0000
TZNAME:UTC
DTSTART:20230101T000000
END:STANDARD
END:VTIMEZONE
BEGIN:VEVENT
DTSTART;TZID=UTC:20240616T100000
DTEND;TZID=UTC:20240616T235959
DTSTAMP:20260425T160906
CREATED:20240603T191058Z
LAST-MODIFIED:20240603T191058Z
UID:4223-1718532000-1718582399@kamunting.nadi.my
SUMMARY:DIY HARI BAPA
DESCRIPTION:Kelas ICT PERCUMA!!\nTerbuka kepada ahli NADI sahaja\nYuran Keahlian RM5 (Seumur Hidup)
URL:https://kamunting.nadi.my/event/diy-hari-bapa-2/
LOCATION:NaDI Kamunting\, NaDI Kamunting
CATEGORIES:DEFAULT
END:VEVENT
BEGIN:VEVENT
DTSTART;TZID=UTC:20240615T100000
DTEND;TZID=UTC:20240615T235959
DTSTAMP:20260425T160907
CREATED:20240603T190931Z
LAST-MODIFIED:20240603T190931Z
UID:4222-1718445600-1718495999@kamunting.nadi.my
SUMMARY:APLIKASI GOOGLE
DESCRIPTION:Kelas ICT PERCUMA!!\nTerbuka kepada ahli NADI sahaja\nYuran Keahlian RM5 (Seumur Hidup)
URL:https://kamunting.nadi.my/event/aplikasi-google/
LOCATION:NaDI Kamunting\, NaDI Kamunting
CATEGORIES:DEFAULT
END:VEVENT
BEGIN:VEVENT
DTSTART;TZID=UTC:20240614T100000
DTEND;TZID=UTC:20240614T235959
DTSTAMP:20260425T160907
CREATED:20240603T190816Z
LAST-MODIFIED:20240603T190816Z
UID:4221-1718359200-1718409599@kamunting.nadi.my
SUMMARY:MICROSOFT EXCEL
DESCRIPTION:Kelas ICT PERCUMA!!\nTerbuka kepada ahli NADI sahaja\nYuran Keahlian RM5 (Seumur Hidup)
URL:https://kamunting.nadi.my/event/microsoft-excel-4/
LOCATION:NaDI Kamunting\, NaDI Kamunting
CATEGORIES:DEFAULT
END:VEVENT
BEGIN:VEVENT
DTSTART;TZID=UTC:20240607T100000
DTEND;TZID=UTC:20240607T235959
DTSTAMP:20260425T160907
CREATED:20240603T190643Z
LAST-MODIFIED:20240603T190643Z
UID:4220-1717754400-1717804799@kamunting.nadi.my
SUMMARY:TUTORIAL / PERMAINAN ONLINE
DESCRIPTION:Kelas ICT PERCUMA!!\nTerbuka kepada ahli NADI sahaja\nYuran Keahlian RM5 (Seumur Hidup)
URL:https://kamunting.nadi.my/event/tutorial-permainan-online/
LOCATION:NaDI Kamunting\, NaDI Kamunting
CATEGORIES:DEFAULT
END:VEVENT
BEGIN:VEVENT
DTSTART;TZID=UTC:20240605T100000
DTEND;TZID=UTC:20240605T235959
DTSTAMP:20260425T160907
CREATED:20240603T190503Z
LAST-MODIFIED:20240603T190503Z
UID:4219-1717581600-1717631999@kamunting.nadi.my
SUMMARY:KUIZ ONLINE (QUIZIZZ)
DESCRIPTION:Kelas ICT PERCUMA!!\nTerbuka kepada ahli NADI sahaja\nYuran Keahlian RM5 (Seumur Hidup)
URL:https://kamunting.nadi.my/event/kuiz-online-quizizz/
LOCATION:NaDI Kamunting\, NaDI Kamunting
CATEGORIES:DEFAULT
END:VEVENT
BEGIN:VEVENT
DTSTART;TZID=UTC:20240602T160000
DTEND;TZID=UTC:20240602T235959
DTSTAMP:20260425T160907
CREATED:20240526T182135Z
LAST-MODIFIED:20240526T182135Z
UID:4217-1717344000-1717372799@kamunting.nadi.my
SUMMARY:KELAS KEUSAHAWANAN (PLATFORM SHOPEE)
DESCRIPTION:Kelas ICT PERCUMA!!Terbuka kepada ahli NADI sahajaYuran Keahlian RM5 (Seumur Hidup)
URL:https://kamunting.nadi.my/event/kelas-keusahawanan-platform-shopee/
LOCATION:NaDI Kamunting\, NaDI Kamunting
CATEGORIES:DEFAULT
END:VEVENT
BEGIN:VEVENT
DTSTART;TZID=UTC:20240531T040000
DTEND;TZID=UTC:20240531T235959
DTSTAMP:20260425T160907
CREATED:20240526T182024Z
LAST-MODIFIED:20240526T182024Z
UID:4216-1717128000-1717199999@kamunting.nadi.my
SUMMARY:KELAS ICT ( CANVA POSTER)
DESCRIPTION:Kelas ICT PERCUMA!!\nTerbuka kepada ahli NADI sahaja\nYuran Keahlian RM5 (Seumur Hidup)
URL:https://kamunting.nadi.my/event/kelas-ict-canva-poster/
LOCATION:NaDI Kamunting\, NaDI Kamunting
CATEGORIES:DEFAULT
END:VEVENT
BEGIN:VEVENT
DTSTART;TZID=UTC:20240528T100000
DTEND;TZID=UTC:20240528T235959
DTSTAMP:20260425T160907
CREATED:20240526T181853Z
LAST-MODIFIED:20240526T181853Z
UID:4215-1716890400-1716940799@kamunting.nadi.my
SUMMARY:MOUSE TRAINING
DESCRIPTION:Kelas ICT PERCUMA!!\nTerbuka kepada ahli NADI sahaja\nYuran Keahlian RM5 (Seumur Hidup)
URL:https://kamunting.nadi.my/event/mouse-training/
LOCATION:NaDI Kamunting\, NaDI Kamunting
CATEGORIES:DEFAULT
END:VEVENT
BEGIN:VEVENT
DTSTART;TZID=UTC:20240527T150000
DTEND;TZID=UTC:20240527T235959
DTSTAMP:20260425T160907
CREATED:20240526T181704Z
LAST-MODIFIED:20240526T181704Z
UID:4214-1716822000-1716854399@kamunting.nadi.my
SUMMARY:KELAS KEUSAHAWANAN BING AI DAN CHAT GPT
DESCRIPTION:Kelas ICT PERCUMA!!\nTerbuka kepada ahli NADI sahaja\nYuran Keahlian RM5 (Seumur Hidup)
URL:https://kamunting.nadi.my/event/kelas-keusahawanan-bing-ai-dan-chat-gpt/
LOCATION:NaDI Kamunting\, NaDI Kamunting
CATEGORIES:DEFAULT
END:VEVENT
BEGIN:VEVENT
DTSTART;TZID=UTC:20240503T100000
DTEND;TZID=UTC:20240503T235959
DTSTAMP:20260425T160907
CREATED:20240425T195107Z
LAST-MODIFIED:20240425T195107Z
UID:4213-1714730400-1714780799@kamunting.nadi.my
SUMMARY:KUIZ ONLINE (LABOUR DAY)
DESCRIPTION:Kelas ICT PERCUMA!!\nTerbuka kepada ahli NADI sahaja\nYuran Keahlian RM5 (Seumur Hidup)
URL:https://kamunting.nadi.my/event/kuiz-online-labour-day/
LOCATION:NaDI Kamunting\, NaDI Kamunting
CATEGORIES:DEFAULT
END:VEVENT
BEGIN:VEVENT
DTSTART;TZID=UTC:20240429T100000
DTEND;TZID=UTC:20240429T235959
DTSTAMP:20260425T160907
CREATED:20240425T194807Z
LAST-MODIFIED:20240425T194807Z
UID:4212-1714384800-1714435199@kamunting.nadi.my
SUMMARY:PERMAINAN PENDIDIKAN (SUDOKU)
DESCRIPTION:Kelas ICT PERCUMA!!\nTerbuka kepada ahli NADI sahaja\nYuran Keahlian RM5 (Seumur Hidup)
URL:https://kamunting.nadi.my/event/permainan-pendidikan-sudoku/
LOCATION:NaDI Kamunting\, NaDI Kamunting
CATEGORIES:DEFAULT
END:VEVENT
BEGIN:VEVENT
DTSTART;TZID=UTC:20240428T100000
DTEND;TZID=UTC:20240428T235959
DTSTAMP:20260425T160907
CREATED:20240425T194603Z
LAST-MODIFIED:20240425T194603Z
UID:4211-1714298400-1714348799@kamunting.nadi.my
SUMMARY:STEM IOT
DESCRIPTION:Kelas ICT PERCUMA!!\nTerbuka kepada ahli NADI sahaja\nYuran Keahlian RM5 (Seumur Hidup)
URL:https://kamunting.nadi.my/event/stem-iot/
LOCATION:NaDI Kamunting\, NaDI Kamunting
CATEGORIES:DEFAULT
END:VEVENT
BEGIN:VEVENT
DTSTART;TZID=UTC:20240323T160000
DTEND;TZID=UTC:20240323T235959
DTSTAMP:20260425T160907
CREATED:20240305T014511Z
LAST-MODIFIED:20240305T014511Z
UID:4209-1711209600-1711238399@kamunting.nadi.my
SUMMARY:Kelas Multimedia / Light Room
DESCRIPTION:Terbuka kepada Ahli NaDI sahaja.\nPendaftaran Yuran Keahlian RM5 (seumur hidup)
URL:https://kamunting.nadi.my/event/kelas-multimedia-light-room/
LOCATION:NaDI Kamunting\, NaDI Kamunting
CATEGORIES:DEFAULT
END:VEVENT
BEGIN:VEVENT
DTSTART;TZID=UTC:20240317T100000
DTEND;TZID=UTC:20240317T235959
DTSTAMP:20260425T160907
CREATED:20240305T014353Z
LAST-MODIFIED:20240305T014353Z
UID:4208-1710669600-1710719999@kamunting.nadi.my
SUMMARY:Kelas Microsoft Excel
DESCRIPTION:Terbuka kepada Ahli NaDI sahaja.\nPendaftaran Yuran Keahlian RM5 (seumur hidup)
URL:https://kamunting.nadi.my/event/kelas-microsoft-excel-3/
LOCATION:NaDI Kamunting\, NaDI Kamunting
CATEGORIES:DEFAULT
END:VEVENT
BEGIN:VEVENT
DTSTART;TZID=UTC:20240314T150000
DTEND;TZID=UTC:20240314T235959
DTSTAMP:20260425T160907
CREATED:20240305T014152Z
LAST-MODIFIED:20240305T014152Z
UID:4207-1710428400-1710460799@kamunting.nadi.my
SUMMARY:Membuat Poster ( Canva )
DESCRIPTION:Terbuka kepada Ahli NaDI sahaja.\nPendaftaran Yuran Keahlian RM5 (seumur hidup)
URL:https://kamunting.nadi.my/event/membuat-poster-canva/
LOCATION:NaDI Kamunting\, NaDI Kamunting
CATEGORIES:DEFAULT
END:VEVENT
BEGIN:VEVENT
DTSTART;TZID=UTC:20240310T100000
DTEND;TZID=UTC:20240310T235959
DTSTAMP:20260425T160907
CREATED:20240305T014005Z
LAST-MODIFIED:20240305T014005Z
UID:4206-1710064800-1710115199@kamunting.nadi.my
SUMMARY:Pengisian Agama : Kedatangan Ramadan
DESCRIPTION:Terbuka kepada Ahli NaDI sahaja.\nPendaftaran Yuran Keahlian RM5 (seumur hidup)
URL:https://kamunting.nadi.my/event/pengisian-agama-kedatangan-ramadan/
LOCATION:NaDI Kamunting\, NaDI Kamunting
CATEGORIES:DEFAULT
END:VEVENT
BEGIN:VEVENT
DTSTART;TZID=UTC:20240307T100000
DTEND;TZID=UTC:20240307T235959
DTSTAMP:20260425T160907
CREATED:20240305T013448Z
LAST-MODIFIED:20240305T013448Z
UID:4205-1709805600-1709855999@kamunting.nadi.my
SUMMARY:PEMASARAN ATAS TALIAN (TIK TOK)
DESCRIPTION:Terbuka kepada Ahli NaDI sahaja.\nPendaftaran Yuran Keahlian RM5 (seumur hidup)
URL:https://kamunting.nadi.my/event/pemasaran-atas-talian-tik-tok/
LOCATION:NaDI Kamunting\, NaDI Kamunting
CATEGORIES:DEFAULT
END:VEVENT
BEGIN:VEVENT
DTSTART;TZID=UTC:20240220T090000
DTEND;TZID=UTC:20240220T235959
DTSTAMP:20260425T160907
CREATED:20240203T014516Z
LAST-MODIFIED:20240203T014516Z
UID:4201-1708419600-1708473599@kamunting.nadi.my
SUMMARY:Pembukaan Kaunter PADU
DESCRIPTION:
URL:https://kamunting.nadi.my/event/pembukaan-kaunter-padu-4/
LOCATION:PEDi KAMUNTING\, PEDi KAMUNTING
CATEGORIES:DEFAULT
END:VEVENT
BEGIN:VEVENT
DTSTART;TZID=UTC:20240218T160000
DTEND;TZID=UTC:20240218T235959
DTSTAMP:20260425T160907
CREATED:20240203T014738Z
LAST-MODIFIED:20240203T014738Z
UID:4202-1708272000-1708300799@kamunting.nadi.my
SUMMARY:Microsoft Word : Menaip Surat
DESCRIPTION:
URL:https://kamunting.nadi.my/event/microsoft-word-menaip-surat/
LOCATION:PEDi KAMUNTING\, PEDi KAMUNTING
CATEGORIES:DEFAULT
END:VEVENT
BEGIN:VEVENT
DTSTART;TZID=UTC:20240208T100000
DTEND;TZID=UTC:20240208T235959
DTSTAMP:20260425T160907
CREATED:20240203T014220Z
LAST-MODIFIED:20240203T014220Z
UID:4199-1707386400-1707436799@kamunting.nadi.my
SUMMARY:Kuiz Israk & Mikraj
DESCRIPTION:
URL:https://kamunting.nadi.my/event/kuiz-israk-mikraj/
LOCATION:PEDi KAMUNTING\, PEDi KAMUNTING
CATEGORIES:DEFAULT
END:VEVENT
BEGIN:VEVENT
DTSTART;TZID=UTC:20240207T090000
DTEND;TZID=UTC:20240207T235959
DTSTAMP:20260425T160907
CREATED:20240203T014414Z
LAST-MODIFIED:20240203T014414Z
UID:4200-1707296400-1707350399@kamunting.nadi.my
SUMMARY:Pembukaan Kaunter PADU
DESCRIPTION:
URL:https://kamunting.nadi.my/event/pembukaan-kaunter-padu-3/
LOCATION:PEDi KAMUNTING\, PEDi KAMUNTING
CATEGORIES:DEFAULT
END:VEVENT
BEGIN:VEVENT
DTSTART;TZID=UTC:20240205T150000
DTEND;TZID=UTC:20240205T235959
DTSTAMP:20260425T160907
CREATED:20240203T013655Z
LAST-MODIFIED:20240203T013655Z
UID:4198-1707145200-1707177599@kamunting.nadi.my
SUMMARY:Canva (Poster Chinese New Year)
DESCRIPTION:
URL:https://kamunting.nadi.my/event/canva-poster-chinese-new-year/
LOCATION:PEDi KAMUNTING\, PEDi KAMUNTING
CATEGORIES:DEFAULT
END:VEVENT
BEGIN:VEVENT
DTSTART;TZID=UTC:20240126T090000
DTEND;TZID=UTC:20240126T173000
DTSTAMP:20260425T160907
CREATED:20240121T015259Z
LAST-MODIFIED:20240121T015259Z
UID:4197-1706259600-1706290200@kamunting.nadi.my
SUMMARY:Pembukaan Kaunter PADU
DESCRIPTION:
URL:https://kamunting.nadi.my/event/pembukaan-kaunter-padu-2/
LOCATION:PEDi KAMUNTING\, PEDi KAMUNTING
CATEGORIES:DEFAULT
END:VEVENT
BEGIN:VEVENT
DTSTART;TZID=UTC:20240120T100000
DTEND;TZID=UTC:20240120T235959
DTSTAMP:20260425T160907
CREATED:20240110T012212Z
LAST-MODIFIED:20240110T012212Z
UID:4196-1705744800-1705795199@kamunting.nadi.my
SUMMARY:KELAS ASAS CANVA (PENYEDIAAN RESUME)
DESCRIPTION:
URL:https://kamunting.nadi.my/event/kelas-asas-canva-penyediaan-resume/
LOCATION:PEDi KAMUNTING\, PEDi KAMUNTING
CATEGORIES:DEFAULT
END:VEVENT
BEGIN:VEVENT
DTSTART;TZID=UTC:20240119T090000
DTEND;TZID=UTC:20240119T235959
DTSTAMP:20260425T160907
CREATED:20240110T012007Z
LAST-MODIFIED:20240110T012007Z
UID:4195-1705654800-1705708799@kamunting.nadi.my
SUMMARY:PEMBUKAAN KAUNTER PADU
DESCRIPTION:
URL:https://kamunting.nadi.my/event/pembukaan-kaunter-padu/
LOCATION:PEDi KAMUNTING\, PEDi KAMUNTING
CATEGORIES:DEFAULT
END:VEVENT
BEGIN:VEVENT
DTSTART;TZID=UTC:20240117T100000
DTEND;TZID=UTC:20240117T235959
DTSTAMP:20260425T160907
CREATED:20240110T011737Z
LAST-MODIFIED:20240110T011737Z
UID:4194-1705485600-1705535999@kamunting.nadi.my
SUMMARY:KELAS MICROSOFT WORD
DESCRIPTION:KELAS ONLINE PERCUMA!!\nTERBUKA KEPADA AHLI PEDi SAHAJA
URL:https://kamunting.nadi.my/event/kelas-microsoft-word-4/
LOCATION:PEDi KAMUNTING\, PEDi KAMUNTING
CATEGORIES:DEFAULT
END:VEVENT
BEGIN:VEVENT
DTSTART;TZID=UTC:20240115T100000
DTEND;TZID=UTC:20240115T235959
DTSTAMP:20260425T160907
CREATED:20240110T011410Z
LAST-MODIFIED:20240110T011410Z
UID:4193-1705312800-1705363199@kamunting.nadi.my
SUMMARY:KELAS ONLINE KEUSAHAWANAN
DESCRIPTION:KELAS ONLINE KEUSAHAWANAN (SHOPEE) \nTERBUKA KEPADA SEMUA AHLI PEDi
URL:https://kamunting.nadi.my/event/kelas-online-keusahawanan/
LOCATION:PEDi KAMUNTING\, PEDi KAMUNTING
CATEGORIES:DEFAULT
END:VEVENT
BEGIN:VEVENT
DTSTART;TZID=UTC:20240113T153000
DTEND;TZID=UTC:20240113T235959
DTSTAMP:20260425T160907
CREATED:20240107T231855Z
LAST-MODIFIED:20240107T231855Z
UID:4191-1705159800-1705190399@kamunting.nadi.my
SUMMARY:E-tuisyen
DESCRIPTION:
URL:https://kamunting.nadi.my/event/e-tuisyen/
LOCATION:PEDi KAMUNTING\, PEDi KAMUNTING
CATEGORIES:DEFAULT
END:VEVENT
BEGIN:VEVENT
DTSTART;TZID=UTC:20240109T100000
DTEND;TZID=UTC:20240109T235959
DTSTAMP:20260425T160907
CREATED:20240107T231728Z
LAST-MODIFIED:20240107T231728Z
UID:4190-1704794400-1704844799@kamunting.nadi.my
SUMMARY:Kelas Canva (poster)
DESCRIPTION:
URL:https://kamunting.nadi.my/event/kelas-canva-poster/
LOCATION:PEDi KAMUNTING\, PEDi KAMUNTING
CATEGORIES:DEFAULT
END:VEVENT
BEGIN:VEVENT
DTSTART;TZID=UTC:20240108T080000
DTEND;TZID=UTC:20240108T170000
DTSTAMP:20260425T160907
CREATED:20240107T234040Z
LAST-MODIFIED:20240107T234040Z
UID:4192-1704700800-1704733200@kamunting.nadi.my
SUMMARY:Kaunter PADU
DESCRIPTION:Kaunter PADU  \nDibuka di PEDi Kamunting \n9.00 pagi-5.00 ptg
URL:https://kamunting.nadi.my/event/kaunter-padu/
LOCATION:PEDi KAMUNTING\, PEDi KAMUNTING
CATEGORIES:DEFAULT
END:VEVENT
END:VCALENDAR