BEGIN:VCALENDAR
VERSION:2.0
PRODID:-//NADI Kamunting - ECPv6.15.12.2//NONSGML v1.0//EN
CALSCALE:GREGORIAN
METHOD:PUBLISH
X-WR-CALNAME:NADI Kamunting
X-ORIGINAL-URL:https://kamunting.nadi.my
X-WR-CALDESC:Events for NADI Kamunting
REFRESH-INTERVAL;VALUE=DURATION:PT1H
X-Robots-Tag:noindex
X-PUBLISHED-TTL:PT1H
BEGIN:VTIMEZONE
TZID:UTC
BEGIN:STANDARD
TZOFFSETFROM:+0000
TZOFFSETTO:+0000
TZNAME:UTC
DTSTART:20230101T000000
END:STANDARD
END:VTIMEZONE
BEGIN:VEVENT
DTSTART;TZID=UTC:20241020T100000
DTEND;TZID=UTC:20241020T170000
DTSTAMP:20260420T160127
CREATED:20241007T163932Z
LAST-MODIFIED:20241007T163932Z
UID:4243-1729418400-1729443600@kamunting.nadi.my
SUMMARY:Pertandingan Mobile Legend
DESCRIPTION:
URL:https://kamunting.nadi.my/event/pertandingan-mobile-legend/
LOCATION:NaDI Kamunting\, NaDI Kamunting
CATEGORIES:DEFAULT
END:VEVENT
BEGIN:VEVENT
DTSTART;TZID=UTC:20241013T080000
DTEND;TZID=UTC:20241013T170000
DTSTAMP:20260420T160127
CREATED:20241007T164055Z
LAST-MODIFIED:20241007T164055Z
UID:4244-1728806400-1728838800@kamunting.nadi.my
SUMMARY:Program Gotong Royong & Pelancaran Combi Jalan Stesyen
DESCRIPTION:
URL:https://kamunting.nadi.my/event/program-gotong-royong-pelancaran-combi-jalan-stesyen/
LOCATION:NaDI Kamunting\, NaDI Kamunting
CATEGORIES:DEFAULT
END:VEVENT
BEGIN:VEVENT
DTSTART;TZID=UTC:20241009T080000
DTEND;TZID=UTC:20241009T170000
DTSTAMP:20260420T160127
CREATED:20241007T164337Z
LAST-MODIFIED:20241007T164337Z
UID:4246-1728460800-1728493200@kamunting.nadi.my
SUMMARY:Taklimat NADI di SK kG. Boyan
DESCRIPTION:
URL:https://kamunting.nadi.my/event/taklimat-nadi-di-sk-kg-boyan/
LOCATION:SK Kg. Boyan\, SK Kg. Boyan
CATEGORIES:DEFAULT
END:VEVENT
BEGIN:VEVENT
DTSTART;TZID=UTC:20240929T100000
DTEND;TZID=UTC:20240929T120000
DTSTAMP:20260420T160127
CREATED:20240922T222935Z
LAST-MODIFIED:20240922T222935Z
UID:4242-1727604000-1727611200@kamunting.nadi.my
SUMMARY:Asas Canva
DESCRIPTION:
URL:https://kamunting.nadi.my/event/asas-canva/
LOCATION:NaDI Kamunting\, NaDI Kamunting
CATEGORIES:DEFAULT
END:VEVENT
BEGIN:VEVENT
DTSTART;TZID=UTC:20240928T100000
DTEND;TZID=UTC:20240928T100000
DTSTAMP:20260420T160127
CREATED:20240922T222833Z
LAST-MODIFIED:20240922T222833Z
UID:4241-1727517600-1727517600@kamunting.nadi.my
SUMMARY:Chat GPT & Ideogram
DESCRIPTION:
URL:https://kamunting.nadi.my/event/chat-gpt-ideogram/
LOCATION:NaDI Kamunting\, NaDI Kamunting
CATEGORIES:DEFAULT
END:VEVENT
BEGIN:VEVENT
DTSTART;TZID=UTC:20240914T103000
DTEND;TZID=UTC:20240914T120000
DTSTAMP:20260420T160127
CREATED:20240909T232337Z
LAST-MODIFIED:20240909T232337Z
UID:4238-1726309800-1726315200@kamunting.nadi.my
SUMMARY:Temuduga Executive Consultant di NADI Kamunting
DESCRIPTION:
URL:https://kamunting.nadi.my/event/temuduga-executive-consultant-di-nadi-kamunting/
LOCATION:NaDI Kamunting\, NaDI Kamunting
CATEGORIES:DEFAULT
END:VEVENT
BEGIN:VEVENT
DTSTART;TZID=UTC:20240914T080000
DTEND;TZID=UTC:20240914T235959
DTSTAMP:20260420T160127
CREATED:20240909T232646Z
LAST-MODIFIED:20240909T232646Z
UID:4240-1726300800-1726358399@kamunting.nadi.my
SUMMARY:Pembukaan Booth (Maulidur Rasul/Semarak Merdeka)
DESCRIPTION:
URL:https://kamunting.nadi.my/event/pembukaan-booth-maulidur-rasul-semarak-merdeka/
LOCATION:NADI Kubu Gajah\, NADI Kubu Gajah
CATEGORIES:DEFAULT
END:VEVENT
BEGIN:VEVENT
DTSTART;TZID=UTC:20240829T160000
DTEND;TZID=UTC:20240829T235959
DTSTAMP:20260420T160127
CREATED:20240827T171757Z
LAST-MODIFIED:20240827T171757Z
UID:4236-1724947200-1724975999@kamunting.nadi.my
SUMMARY:Canva Merdeka
DESCRIPTION:
URL:https://kamunting.nadi.my/event/canva-merdeka/
LOCATION:NaDI Kamunting\, NaDI Kamunting
CATEGORIES:DEFAULT
END:VEVENT
BEGIN:VEVENT
DTSTART;TZID=UTC:20240827T150000
DTEND;TZID=UTC:20240827T235959
DTSTAMP:20260420T160127
CREATED:20240825T000037Z
LAST-MODIFIED:20240825T000037Z
UID:4234-1724770800-1724803199@kamunting.nadi.my
SUMMARY:Mewarna Merdeka
DESCRIPTION:
URL:https://kamunting.nadi.my/event/mewarna-merdeka/
LOCATION:NaDI Kamunting\, NaDI Kamunting
CATEGORIES:DEFAULT
END:VEVENT
BEGIN:VEVENT
DTSTART;TZID=UTC:20240826T100000
DTEND;TZID=UTC:20240826T170000
DTSTAMP:20260420T160127
CREATED:20240824T235913Z
LAST-MODIFIED:20240824T235913Z
UID:4233-1724666400-1724691600@kamunting.nadi.my
SUMMARY:Permainan pendidikan-STEM
DESCRIPTION:
URL:https://kamunting.nadi.my/event/permainan-pendidikan-stem/
LOCATION:NaDI Kamunting\, NaDI Kamunting
CATEGORIES:DEFAULT
END:VEVENT
BEGIN:VEVENT
DTSTART;TZID=UTC:20240824T093000
DTEND;TZID=UTC:20240825T235959
DTSTAMP:20260420T160127
CREATED:20240825T000357Z
LAST-MODIFIED:20240825T000357Z
UID:4235-1724491800-1724630399@kamunting.nadi.my
SUMMARY:Kelas TikTok dan Affiliate
DESCRIPTION:
URL:https://kamunting.nadi.my/event/kelas-tiktok-dan-affiliate/
LOCATION:NaDI Kamunting\, NaDI Kamunting
CATEGORIES:DEFAULT
END:VEVENT
BEGIN:VEVENT
DTSTART;TZID=UTC:20240818T100000
DTEND;TZID=UTC:20240818T235959
DTSTAMP:20260420T160127
CREATED:20240810T231307Z
LAST-MODIFIED:20240810T231307Z
UID:4232-1723975200-1724025599@kamunting.nadi.my
SUMMARY:PENGENALAN AI
DESCRIPTION:
URL:https://kamunting.nadi.my/event/pengenalan-ai/
LOCATION:NaDI Kamunting\, NaDI Kamunting
CATEGORIES:DEFAULT
END:VEVENT
BEGIN:VEVENT
DTSTART;TZID=UTC:20240817T100000
DTEND;TZID=UTC:20240817T235959
DTSTAMP:20260420T160127
CREATED:20240810T230945Z
LAST-MODIFIED:20240810T230945Z
UID:4231-1723888800-1723939199@kamunting.nadi.my
SUMMARY:STEM-IOT
DESCRIPTION:
URL:https://kamunting.nadi.my/event/stem-iot-4/
LOCATION:NaDI Kamunting\, NaDI Kamunting
CATEGORIES:DEFAULT
END:VEVENT
BEGIN:VEVENT
DTSTART;TZID=UTC:20240814T160000
DTEND;TZID=UTC:20240814T235959
DTSTAMP:20260420T160127
CREATED:20240810T230843Z
LAST-MODIFIED:20240810T230843Z
UID:4230-1723651200-1723679999@kamunting.nadi.my
SUMMARY:ICT-CANVA
DESCRIPTION:
URL:https://kamunting.nadi.my/event/ict-canva/
LOCATION:NaDI Kamunting\, NaDI Kamunting
CATEGORIES:DEFAULT
END:VEVENT
BEGIN:VEVENT
DTSTART;TZID=UTC:20240811T163000
DTEND;TZID=UTC:20240811T235959
DTSTAMP:20260420T160127
CREATED:20240810T230652Z
LAST-MODIFIED:20240810T230652Z
UID:4229-1723393800-1723420799@kamunting.nadi.my
SUMMARY:STEM -IOT
DESCRIPTION:
URL:https://kamunting.nadi.my/event/stem-iot-3/
LOCATION:NaDI Kamunting\, NaDI Kamunting
CATEGORIES:DEFAULT
END:VEVENT
BEGIN:VEVENT
DTSTART;TZID=UTC:20240717T100000
DTEND;TZID=UTC:20240717T235959
DTSTAMP:20260420T160127
CREATED:20240702T210525Z
LAST-MODIFIED:20240702T210525Z
UID:4228-1721210400-1721260799@kamunting.nadi.my
SUMMARY:STEM (IOT)
DESCRIPTION:
URL:https://kamunting.nadi.my/event/stem-iot-2/
CATEGORIES:DEFAULT
END:VEVENT
BEGIN:VEVENT
DTSTART;TZID=UTC:20240716T100000
DTEND;TZID=UTC:20240716T235959
DTSTAMP:20260420T160127
CREATED:20240702T210311Z
LAST-MODIFIED:20240702T210311Z
UID:4227-1721124000-1721174399@kamunting.nadi.my
SUMMARY:Microsoft Powerpoint
DESCRIPTION:
URL:https://kamunting.nadi.my/event/microsoft-powerpoint-4/
CATEGORIES:DEFAULT
END:VEVENT
BEGIN:VEVENT
DTSTART;TZID=UTC:20240712T100000
DTEND;TZID=UTC:20240712T235959
DTSTAMP:20260420T160127
CREATED:20240702T210211Z
LAST-MODIFIED:20240702T210211Z
UID:4226-1720778400-1720828799@kamunting.nadi.my
SUMMARY:Program Keusahawanan
DESCRIPTION:
URL:https://kamunting.nadi.my/event/program-keusahawanan/
CATEGORIES:DEFAULT
END:VEVENT
BEGIN:VEVENT
DTSTART;TZID=UTC:20240710T100000
DTEND;TZID=UTC:20240710T235959
DTSTAMP:20260420T160127
CREATED:20240702T210105Z
LAST-MODIFIED:20240702T210105Z
UID:4225-1720605600-1720655999@kamunting.nadi.my
SUMMARY:Aplikasi CANVA (Art&Design)
DESCRIPTION:
URL:https://kamunting.nadi.my/event/aplikasi-canva-artdesign/
CATEGORIES:DEFAULT
END:VEVENT
BEGIN:VEVENT
DTSTART;TZID=UTC:20240706T100000
DTEND;TZID=UTC:20240706T235959
DTSTAMP:20260420T160127
CREATED:20240702T205949Z
LAST-MODIFIED:20240702T205949Z
UID:4224-1720260000-1720310399@kamunting.nadi.my
SUMMARY:Kelas ICT (Asas Word)
DESCRIPTION:Kelas ICT PERCUMA!!\nTerbuka kepada ahli NADI sahaja\nYuran Keahlian RM5 (Seumur Hidup)
URL:https://kamunting.nadi.my/event/kelas-ict-asas-word/
LOCATION:NaDI Kamunting\, NaDI Kamunting
CATEGORIES:DEFAULT
END:VEVENT
BEGIN:VEVENT
DTSTART;TZID=UTC:20240616T100000
DTEND;TZID=UTC:20240616T235959
DTSTAMP:20260420T160127
CREATED:20240603T191058Z
LAST-MODIFIED:20240603T191058Z
UID:4223-1718532000-1718582399@kamunting.nadi.my
SUMMARY:DIY HARI BAPA
DESCRIPTION:Kelas ICT PERCUMA!!\nTerbuka kepada ahli NADI sahaja\nYuran Keahlian RM5 (Seumur Hidup)
URL:https://kamunting.nadi.my/event/diy-hari-bapa-2/
LOCATION:NaDI Kamunting\, NaDI Kamunting
CATEGORIES:DEFAULT
END:VEVENT
BEGIN:VEVENT
DTSTART;TZID=UTC:20240615T100000
DTEND;TZID=UTC:20240615T235959
DTSTAMP:20260420T160127
CREATED:20240603T190931Z
LAST-MODIFIED:20240603T190931Z
UID:4222-1718445600-1718495999@kamunting.nadi.my
SUMMARY:APLIKASI GOOGLE
DESCRIPTION:Kelas ICT PERCUMA!!\nTerbuka kepada ahli NADI sahaja\nYuran Keahlian RM5 (Seumur Hidup)
URL:https://kamunting.nadi.my/event/aplikasi-google/
LOCATION:NaDI Kamunting\, NaDI Kamunting
CATEGORIES:DEFAULT
END:VEVENT
BEGIN:VEVENT
DTSTART;TZID=UTC:20240614T100000
DTEND;TZID=UTC:20240614T235959
DTSTAMP:20260420T160127
CREATED:20240603T190816Z
LAST-MODIFIED:20240603T190816Z
UID:4221-1718359200-1718409599@kamunting.nadi.my
SUMMARY:MICROSOFT EXCEL
DESCRIPTION:Kelas ICT PERCUMA!!\nTerbuka kepada ahli NADI sahaja\nYuran Keahlian RM5 (Seumur Hidup)
URL:https://kamunting.nadi.my/event/microsoft-excel-4/
LOCATION:NaDI Kamunting\, NaDI Kamunting
CATEGORIES:DEFAULT
END:VEVENT
BEGIN:VEVENT
DTSTART;TZID=UTC:20240607T100000
DTEND;TZID=UTC:20240607T235959
DTSTAMP:20260420T160127
CREATED:20240603T190643Z
LAST-MODIFIED:20240603T190643Z
UID:4220-1717754400-1717804799@kamunting.nadi.my
SUMMARY:TUTORIAL / PERMAINAN ONLINE
DESCRIPTION:Kelas ICT PERCUMA!!\nTerbuka kepada ahli NADI sahaja\nYuran Keahlian RM5 (Seumur Hidup)
URL:https://kamunting.nadi.my/event/tutorial-permainan-online/
LOCATION:NaDI Kamunting\, NaDI Kamunting
CATEGORIES:DEFAULT
END:VEVENT
BEGIN:VEVENT
DTSTART;TZID=UTC:20240605T100000
DTEND;TZID=UTC:20240605T235959
DTSTAMP:20260420T160127
CREATED:20240603T190503Z
LAST-MODIFIED:20240603T190503Z
UID:4219-1717581600-1717631999@kamunting.nadi.my
SUMMARY:KUIZ ONLINE (QUIZIZZ)
DESCRIPTION:Kelas ICT PERCUMA!!\nTerbuka kepada ahli NADI sahaja\nYuran Keahlian RM5 (Seumur Hidup)
URL:https://kamunting.nadi.my/event/kuiz-online-quizizz/
LOCATION:NaDI Kamunting\, NaDI Kamunting
CATEGORIES:DEFAULT
END:VEVENT
BEGIN:VEVENT
DTSTART;TZID=UTC:20240602T160000
DTEND;TZID=UTC:20240602T235959
DTSTAMP:20260420T160127
CREATED:20240526T182135Z
LAST-MODIFIED:20240526T182135Z
UID:4217-1717344000-1717372799@kamunting.nadi.my
SUMMARY:KELAS KEUSAHAWANAN (PLATFORM SHOPEE)
DESCRIPTION:Kelas ICT PERCUMA!!Terbuka kepada ahli NADI sahajaYuran Keahlian RM5 (Seumur Hidup)
URL:https://kamunting.nadi.my/event/kelas-keusahawanan-platform-shopee/
LOCATION:NaDI Kamunting\, NaDI Kamunting
CATEGORIES:DEFAULT
END:VEVENT
BEGIN:VEVENT
DTSTART;TZID=UTC:20240531T040000
DTEND;TZID=UTC:20240531T235959
DTSTAMP:20260420T160127
CREATED:20240526T182024Z
LAST-MODIFIED:20240526T182024Z
UID:4216-1717128000-1717199999@kamunting.nadi.my
SUMMARY:KELAS ICT ( CANVA POSTER)
DESCRIPTION:Kelas ICT PERCUMA!!\nTerbuka kepada ahli NADI sahaja\nYuran Keahlian RM5 (Seumur Hidup)
URL:https://kamunting.nadi.my/event/kelas-ict-canva-poster/
LOCATION:NaDI Kamunting\, NaDI Kamunting
CATEGORIES:DEFAULT
END:VEVENT
BEGIN:VEVENT
DTSTART;TZID=UTC:20240528T100000
DTEND;TZID=UTC:20240528T235959
DTSTAMP:20260420T160127
CREATED:20240526T181853Z
LAST-MODIFIED:20240526T181853Z
UID:4215-1716890400-1716940799@kamunting.nadi.my
SUMMARY:MOUSE TRAINING
DESCRIPTION:Kelas ICT PERCUMA!!\nTerbuka kepada ahli NADI sahaja\nYuran Keahlian RM5 (Seumur Hidup)
URL:https://kamunting.nadi.my/event/mouse-training/
LOCATION:NaDI Kamunting\, NaDI Kamunting
CATEGORIES:DEFAULT
END:VEVENT
BEGIN:VEVENT
DTSTART;TZID=UTC:20240527T150000
DTEND;TZID=UTC:20240527T235959
DTSTAMP:20260420T160127
CREATED:20240526T181704Z
LAST-MODIFIED:20240526T181704Z
UID:4214-1716822000-1716854399@kamunting.nadi.my
SUMMARY:KELAS KEUSAHAWANAN BING AI DAN CHAT GPT
DESCRIPTION:Kelas ICT PERCUMA!!\nTerbuka kepada ahli NADI sahaja\nYuran Keahlian RM5 (Seumur Hidup)
URL:https://kamunting.nadi.my/event/kelas-keusahawanan-bing-ai-dan-chat-gpt/
LOCATION:NaDI Kamunting\, NaDI Kamunting
CATEGORIES:DEFAULT
END:VEVENT
BEGIN:VEVENT
DTSTART;TZID=UTC:20240503T100000
DTEND;TZID=UTC:20240503T235959
DTSTAMP:20260420T160127
CREATED:20240425T195107Z
LAST-MODIFIED:20240425T195107Z
UID:4213-1714730400-1714780799@kamunting.nadi.my
SUMMARY:KUIZ ONLINE (LABOUR DAY)
DESCRIPTION:Kelas ICT PERCUMA!!\nTerbuka kepada ahli NADI sahaja\nYuran Keahlian RM5 (Seumur Hidup)
URL:https://kamunting.nadi.my/event/kuiz-online-labour-day/
LOCATION:NaDI Kamunting\, NaDI Kamunting
CATEGORIES:DEFAULT
END:VEVENT
END:VCALENDAR