BEGIN:VCALENDAR
VERSION:2.0
PRODID:-//NADI Kamunting - ECPv6.15.12.2//NONSGML v1.0//EN
CALSCALE:GREGORIAN
METHOD:PUBLISH
X-WR-CALNAME:NADI Kamunting
X-ORIGINAL-URL:https://kamunting.nadi.my
X-WR-CALDESC:Events for NADI Kamunting
REFRESH-INTERVAL;VALUE=DURATION:PT1H
X-Robots-Tag:noindex
X-PUBLISHED-TTL:PT1H
BEGIN:VTIMEZONE
TZID:Asia/Kuala_Lumpur
BEGIN:STANDARD
TZOFFSETFROM:+0800
TZOFFSETTO:+0800
TZNAME:+08
DTSTART:20240101T000000
END:STANDARD
END:VTIMEZONE
BEGIN:VEVENT
DTSTART;TZID=Asia/Kuala_Lumpur:20250528T100000
DTEND;TZID=Asia/Kuala_Lumpur:20250528T233000
DTSTAMP:20260423T075928
CREATED:20250524T040620Z
LAST-MODIFIED:20250524T040620Z
UID:4381-1748426400-1748475000@kamunting.nadi.my
SUMMARY:HEALTH TIPS
DESCRIPTION:Online Session
URL:https://kamunting.nadi.my/event/health-tips/
LOCATION:NaDI Kamunting\, NaDI Kamunting
END:VEVENT
END:VCALENDAR